BEGIN:VCALENDAR
VERSION:2.0
PRODID:-//ChamberMaster//Event Calendar 2.0//EN
METHOD:PUBLISH
X-PUBLISHED-TTL:P3D
REFRESH-INTERVAL:P3D
CALSCALE:GREGORIAN
BEGIN:VEVENT
DTSTART:20170513T160000Z
DTEND:20170513T230000Z
X-MICROSOFT-CDO-ALLDAYEVENT:FALSE
SUMMARY:Hot Rods car show and Cruz
DESCRIPTION:Largest Car show on the peninsula. Cruz thru town before the main parade. Staging is Evergreen Collision Center between 8:00-10:30 with the cruz starting at 11:00am and ending Walmart Sequim If you do not plan on joining the small cruz thru town just show up at Wal-Mart before 11:00 am. Pre pay is $15.00 day of show is $20.00.
X-ALT-DESC;FMTTYPE=text/html:Largest Car show on the peninsula. Cruz thru town before the main parade. Staging is Evergreen Collision Center between 8:00-10:30 with the cruz starting at 11:00am and ending Walmart Sequim If you do not plan on joining the small cruz thru town just show up at Wal-Mart before 11:00 am. Pre pay is $15.00 day of show is $20.00.
LOCATION:Sequim Wal-Mart
UID:e.2672.3372
SEQUENCE:3
DTSTAMP:20260422T140743Z
URL:https://business.sequimchamber.com/events/details/hot-rods-car-show-and-cruz-3372
END:VEVENT

END:VCALENDAR
