BEGIN:VCALENDAR
VERSION:2.0
PRODID:-//ChamberMaster//Event Calendar 2.0//EN
METHOD:PUBLISH
X-PUBLISHED-TTL:P3D
REFRESH-INTERVAL:P3D
CALSCALE:GREGORIAN
BEGIN:VEVENT
DTSTART:20180205T180000Z
DTEND:20180205T193000Z
X-MICROSOFT-CDO-ALLDAYEVENT:FALSE
SUMMARY:"In Defense of Creepy Critters"
DESCRIPTION:Sequim Prairie Garden Club's favorite gardening guru\, Eleanor Garthwaite\, will give a presentation on the insect life around us in a way many have never considered! She is one of few people who intuitively understands insect critters\, the plant world and its closely held secrets! Slides and information sheets will be available.
X-ALT-DESC;FMTTYPE=text/html:Sequim Prairie Garden Club&#39\;s favorite gardening guru\, Eleanor Garthwaite\, will give a presentation on the insect life around us in a way many have never considered! She is one of few people who intuitively understands insect critters\, the plant world and its closely held secrets! Slides and information sheets will be available.
LOCATION:Pioneer Memorial Park Clubhouse\, 387 E. Washington St.\, Sequim
UID:e.2672.9113
SEQUENCE:3
DTSTAMP:20260422T231242Z
URL:https://business.sequimchamber.com/events/details/in-defense-of-creepy-critters-9113
END:VEVENT

END:VCALENDAR
