BEGIN:VCALENDAR
VERSION:2.0
PRODID:-//ChamberMaster//Event Calendar 2.0//EN
METHOD:PUBLISH
X-PUBLISHED-TTL:P3D
REFRESH-INTERVAL:P3D
CALSCALE:GREGORIAN
BEGIN:VEVENT
DTSTART:20170513T153000Z
DTEND:20170513T180000Z
X-MICROSOFT-CDO-ALLDAYEVENT:FALSE
SUMMARY:Irrigation Festival Fun Run 5K Run 1K walk and Kids Dash
DESCRIPTION:Details Annual Irrigation Festival Fun Run 5K Run 1K walk and Kids Dash! This years 5K and 1K will start at 930am in the Jcpennys Parking Lot in Sequim Washington. Registration will be at 830am! There will be a kids dash with prizes this year as well! ?? This is an out and back 5K run that begins at the Jcpenney parking lot and goes along the Sequim Irrigation Festival Grand Parade Route\, which is down Washington Street. The turnaround point is at the Sequim Senior Activity Center on Hammond Street. The race will begin at 10AM. We ask that every participant be off the course by 10:55AM in time for the Car Parade after the race. Race day registration and Bib pick up will start at 8:30am on the day of the race. To get things started on time\, we strongly encourage pre-registration. $25 (plus small processing fee) pre-registration by May 13th at 5pm. Price increases to $30 after that. If you have any questions\, please feel free to contact the Sequim Gym at 360-681-2555 or office@sequimgym.com
X-ALT-DESC;FMTTYPE=text/html:Details Annual Irrigation Festival Fun Run 5K Run 1K walk and Kids Dash! This years 5K and 1K will start at 930am in the Jcpennys Parking Lot in Sequim Washington. Registration will be at 830am! There will be a kids dash with prizes this year as well! ?? This is an out and back 5K run that begins at the Jcpenney parking lot and goes along the Sequim Irrigation Festival Grand Parade Route\, which is down Washington Street. The turnaround point is at the Sequim Senior Activity Center on Hammond Street. The race will begin at 10AM. We ask that every participant be off the course by 10:55AM in time for the Car Parade after the race. Race day registration and Bib pick up will start at 8:30am on the day of the race. To get things started on time\, we strongly encourage pre-registration. $25 (plus small processing fee) pre-registration by May 13th at 5pm. Price increases to $30 after that. If you have any questions\, please feel free to contact the Sequim Gym at 360-681-2555 or office@sequimgym.com
LOCATION:Start Jcpenney parking lot
UID:e.2672.3370
SEQUENCE:3
DTSTAMP:20260422T122804Z
URL:https://business.sequimchamber.com/events/details/irrigation-festival-fun-run-5k-run-1k-walk-and-kids-dash-3370
END:VEVENT

END:VCALENDAR
