BEGIN:VCALENDAR
VERSION:2.0
PRODID:-//ChamberMaster//Event Calendar 2.0//EN
METHOD:PUBLISH
X-PUBLISHED-TTL:P3D
REFRESH-INTERVAL:P3D
CALSCALE:GREGORIAN
BEGIN:VEVENT
DTSTART:20170506T000000Z
DTEND:20170507T230000Z
X-MICROSOFT-CDO-ALLDAYEVENT:FALSE
SUMMARY:Irrigation Festival Innovative Arts and Crafts Fair
DESCRIPTION:Come join us for shopping\, food\, Photo Ops\, entertainment\, demonstrations\, and FUN at the Innovative Arts and Crafts Fair starting with the First Friday Art Walk Patron Preview\, Friday\, May 5\, 5 - 8pm and continuing Saturday\, May 6\, 10am - 5pm and Sunday\, May 7\, 10am - 4pm on Cedar Street at the Sequim Civic Plaza! "Reuse\, Recycle and Repurpose" are an underlying theme of the Innovative Arts and Crafts Fair during the Irrigation Festival. There will be demonstrations throughout Saturday and Sunday\, as well as an Innovative Reuse Showcase and Contest. Local vendors\, as well as\, those from around the region make this event a mainstay of the Irrigation Festival. In addition to the arts and crafts vendors\, enjoy a selection from our food vendors and enjoy our main stage entertainment. Don't miss these activities during this engaging\, leisurely event.
X-ALT-DESC;FMTTYPE=text/html:Come join us for shopping\, food\, Photo Ops\, entertainment\, demonstrations\, and FUN at the Innovative Arts and Crafts Fair starting with the First Friday Art Walk Patron Preview\, Friday\, May 5\, 5 - 8pm and continuing Saturday\, May 6\, 10am - 5pm and Sunday\, May 7\, 10am - 4pm on Cedar Street at the Sequim Civic Plaza! &ldquo\;Reuse\, Recycle and Repurpose&rdquo\; are an underlying theme of the Innovative Arts and Crafts Fair during the Irrigation Festival. There will be demonstrations throughout Saturday and Sunday\, as well as an Innovative Reuse Showcase and Contest. Local vendors\, as well as\, those from around the region make this event a mainstay of the Irrigation Festival. In addition to the arts and crafts vendors\, enjoy a selection from our food vendors and enjoy our main stage entertainment. Don&rsquo\;t miss these activities during this engaging\, leisurely event.
LOCATION:Cedar Street at the Sequim Civic Plaza
UID:e.2672.4927
SEQUENCE:3
DTSTAMP:20260422T122716Z
URL:https://business.sequimchamber.com/events/details/irrigation-festival-innovative-arts-and-crafts-fair-4927
END:VEVENT

END:VCALENDAR
