BEGIN:VCALENDAR
VERSION:2.0
PRODID:-//ChamberMaster//Event Calendar 2.0//EN
METHOD:PUBLISH
X-PUBLISHED-TTL:P3D
REFRESH-INTERVAL:P3D
CALSCALE:GREGORIAN
BEGIN:VEVENT
DTSTART:20190920T183000Z
DTEND:20190920T220000Z
X-MICROSOFT-CDO-ALLDAYEVENT:FALSE
SUMMARY:Italian Buffet Bunco
DESCRIPTION:It's an ITALIAN BUFFET SPECIAL at Sequim Guild of Seattle Children's hospital's Bunco Party on September 20. Win our usual great prizes playing Bunco\, bid on amazing items at the silent auction\, and enjoy an Italian-themed buffet made by Guild members: lasagna\, spaghetti\, and more\, including an Italian "twist" on our famous desserts. All proceeds go to Seattle Children's Hospital for uncompensated care. For more information\, contact Raini Cacy 360-461-1818 or sequimguild@gmail.com\,
X-ALT-DESC;FMTTYPE=text/html:It&rsquo\;s an ITALIAN BUFFET SPECIAL at Sequim Guild of Seattle Children&rsquo\;s hospital&rsquo\;s Bunco Party on September 20. Win our usual great prizes playing Bunco\, bid on amazing items at the silent auction\, and enjoy an Italian-themed buffet made by Guild members: lasagna\, spaghetti\, and more\, including an Italian &ldquo\;twist&rdquo\; on our famous desserts. All proceeds go to Seattle Children&rsquo\;s Hospital for uncompensated care. For more information\, contact Raini Cacy 360-461-1818 or sequimguild@gmail.com\,
LOCATION:St. Luke's Episcopal Church 525 N. 5th Ave.\, Sequim
UID:e.2672.13467
SEQUENCE:3
DTSTAMP:20260422T085013Z
URL:https://business.sequimchamber.com/events/details/italian-buffet-bunco-13467
END:VEVENT

END:VCALENDAR
