BEGIN:VCALENDAR
VERSION:2.0
PRODID:-//ChamberMaster//Event Calendar 2.0//EN
METHOD:PUBLISH
X-PUBLISHED-TTL:P3D
REFRESH-INTERVAL:P3D
CALSCALE:GREGORIAN
BEGIN:VEVENT
DTSTART:20201127T180000Z
DTEND:20201128T000000Z
X-MICROSOFT-CDO-ALLDAYEVENT:FALSE
SUMMARY:Jardin du Soleil Holiday Pop-ups
DESCRIPTION:Jardin du Soleil is hosting Holiday Pop-Up shops in the gift shop this holiday season. Each weekend there will be artists from the community setting up their best holiday gifts and creations. Join us Friday-Sunday 10-4 for local holiday shopping.
X-ALT-DESC;FMTTYPE=text/html:Jardin du Soleil is hosting Holiday Pop-Up shops in the gift shop this holiday season. Each weekend there will be artists from the community setting up their best holiday gifts and creations. Join us Friday-Sunday 10-4 for local holiday shopping.
LOCATION:Jardin du Soleil Lavender Farm 3932 Sequim Dungeness Way
UID:e.2672.14622
SEQUENCE:3
DTSTAMP:20260423T234122Z
URL:https://business.sequimchamber.com/events/details/jardin-du-soleil-holiday-pop-ups-11-27-2020-14622
END:VEVENT

END:VCALENDAR
