BEGIN:VCALENDAR
VERSION:2.0
PRODID:-//ChamberMaster//Event Calendar 2.0//EN
METHOD:PUBLISH
X-PUBLISHED-TTL:P3D
REFRESH-INTERVAL:P3D
CALSCALE:GREGORIAN
BEGIN:VEVENT
DTSTART:20191001T230000Z
DTEND:20191002T010000Z
X-MICROSOFT-CDO-ALLDAYEVENT:FALSE
SUMMARY:Jason Paul & Friends at Wind Rose Cellars
DESCRIPTION:Tuesdays from 4 to 6 p.m. at Wind Rose Cellars in Sequim is the place to be for live music\, delicious wine\, tasty small plates and great camaraderie. Jason Paul invites musician friends to join him for an eclectic mix of jazz\, blues\, pop and more. Come join the party!
X-ALT-DESC;FMTTYPE=text/html:Tuesdays from 4 to 6 p.m. at Wind Rose Cellars in Sequim is the place to be for live music\, delicious wine\, tasty small plates and great camaraderie. Jason Paul invites musician friends to join him for an eclectic mix of jazz\, blues\, pop and more. Come join the party!
LOCATION:Wind Rose Cellars 143 W. Washington Sequim\, WA 98382
UID:e.2672.13587
SEQUENCE:3
DTSTAMP:20260422T105535Z
URL:https://business.sequimchamber.com/events/details/jason-paul-friends-at-wind-rose-cellars-13587
END:VEVENT

END:VCALENDAR
