BEGIN:VCALENDAR
VERSION:2.0
PRODID:-//ChamberMaster//Event Calendar 2.0//EN
METHOD:PUBLISH
X-PUBLISHED-TTL:P3D
REFRESH-INTERVAL:P3D
CALSCALE:GREGORIAN
BEGIN:VEVENT
DTSTART:20170506T160000Z
DTEND:20170506T170000Z
X-MICROSOFT-CDO-ALLDAYEVENT:FALSE
SUMMARY:Kids Parade
DESCRIPTION:Parade for kids 12 years and younger. Prizes are awarded. Categories: Best Storybook Character Best Pet Entry Best Historical Theme Grand Prize overall\, Staging at 9:00 parade starts at 9:30\, Parade ends at 10:00 Washington Federal parking lot\, corner of Washington and 2nd St..
X-ALT-DESC;FMTTYPE=text/html:Parade for kids 12 years and younger. Prizes are awarded. Categories: Best Storybook Character Best Pet Entry Best Historical Theme Grand Prize overall\, Staging at 9:00 parade starts at 9:30\, Parade ends at 10:00 Washington Federal parking lot\, corner of Washington and 2nd St..
LOCATION:Washington Federal parking lot\, corner of Washington and 2nd St..
UID:e.2672.3369
SEQUENCE:3
DTSTAMP:20260422T121710Z
URL:https://business.sequimchamber.com/events/details/kids-parade-3369
END:VEVENT

END:VCALENDAR
