BEGIN:VCALENDAR
VERSION:2.0
PRODID:-//ChamberMaster//Event Calendar 2.0//EN
METHOD:PUBLISH
X-PUBLISHED-TTL:P3D
REFRESH-INTERVAL:P3D
CALSCALE:GREGORIAN
BEGIN:VEVENT
DTSTART:20170513T190000Z
DTEND:20170513T210000Z
X-MICROSOFT-CDO-ALLDAYEVENT:FALSE
SUMMARY:KSQM 91.5 FM 122nd Irrigation Festival Grand Parade
DESCRIPTION:OLIVE MARTINI invites you to join KSQM Radio with famed 1950 R&B singer/creator of The Pretenders\, Bobby Rose\, jazz singer Laurie Allyn and Carrie Pierce of Tea for Two\, Doe & Flo Show personalities\, Linda's Latin Quarter\, U.S. Navy veteran/former N.Y. mayor & KSQM director Al Friess\, announcers and volunteers in classic cars.
X-ALT-DESC;FMTTYPE=text/html:OLIVE MARTINI invites you to join KSQM Radio with famed 1950 R&amp\;B singer/creator of The Pretenders\, Bobby Rose\, jazz singer Laurie Allyn and Carrie Pierce of Tea for Two\, Doe &amp\; Flo Show personalities\, Linda&#39\;s Latin Quarter\, U.S. Navy veteran/former N.Y. mayor &amp\; KSQM director Al Friess\, announcers and volunteers in classic cars.
LOCATION:Washington Street in Sequim
UID:e.2672.4944
SEQUENCE:3
DTSTAMP:20260422T122848Z
URL:https://business.sequimchamber.com/events/details/ksqm-91-5-fm-122nd-irrigation-festival-grand-parade-4944
END:VEVENT

END:VCALENDAR
