BEGIN:VCALENDAR
VERSION:2.0
PRODID:-//ChamberMaster//Event Calendar 2.0//EN
METHOD:PUBLISH
X-PUBLISHED-TTL:P3D
REFRESH-INTERVAL:P3D
CALSCALE:GREGORIAN
BEGIN:VEVENT
DTSTART:20190907T020000Z
DTEND:20190907T040000Z
X-MICROSOFT-CDO-ALLDAYEVENT:FALSE
SUMMARY:Live Music Bread & Gravy
DESCRIPTION:Bread and Gravy.. Mixture of songs from the 70-90s. Lots of energy. We're excited to have Eric Tonnesen on guitar joining us! Americana\, Blues\, Soul\, Rock & much more! (Stephanie Doenges -vocals & guitar\, Jason Taylor - Vocals & guitar/bass\, Jerry Gilleland - drums) Eric Tonnesen - Guitar & Vocals Children allowed with adult supervision.
X-ALT-DESC;FMTTYPE=text/html:Bread and Gravy.. Mixture of songs from the 70-90s. Lots of energy. We&#39\;re excited to have Eric Tonnesen on guitar joining us! Americana\, Blues\, Soul\, Rock &amp\; much more! (Stephanie Doenges -vocals &amp\; guitar\, Jason Taylor - Vocals &amp\; guitar/bass\, Jerry Gilleland - drums) Eric Tonnesen - Guitar &amp\; Vocals Children allowed with adult supervision.
LOCATION:143 W Washington St Sequim\, Washington 98382
UID:e.2672.13501
SEQUENCE:3
DTSTAMP:20260422T102955Z
URL:https://business.sequimchamber.com/events/details/live-music-bread-gravy-13501
END:VEVENT

END:VCALENDAR
