BEGIN:VCALENDAR
VERSION:2.0
PRODID:-//ChamberMaster//Event Calendar 2.0//EN
METHOD:PUBLISH
X-PUBLISHED-TTL:P3D
REFRESH-INTERVAL:P3D
CALSCALE:GREGORIAN
BEGIN:VEVENT
DTSTART:20191020T020000Z
DTEND:20191020T040000Z
X-MICROSOFT-CDO-ALLDAYEVENT:FALSE
SUMMARY:Live Music "Hannah and Christian"
DESCRIPTION:Husband and wife duo perform songs from the 70s-90s.
X-ALT-DESC;FMTTYPE=text/html:Husband and wife duo perform songs from the 70s-90s.
LOCATION:143 W Washington St Sequim\, Washington 98382 United States
UID:e.2672.13586
SEQUENCE:3
DTSTAMP:20260422T105731Z
URL:https://business.sequimchamber.com/events/details/live-music-hannah-and-christian-13586
END:VEVENT

END:VCALENDAR
