BEGIN:VCALENDAR
VERSION:2.0
PRODID:-//ChamberMaster//Event Calendar 2.0//EN
METHOD:PUBLISH
X-PUBLISHED-TTL:P3D
REFRESH-INTERVAL:P3D
CALSCALE:GREGORIAN
BEGIN:VEVENT
DTSTART:20191006T020000Z
DTEND:20191006T040000Z
X-MICROSOFT-CDO-ALLDAYEVENT:FALSE
SUMMARY:Live Music Jenny Davis Trio
DESCRIPTION:Jenny Davis\, nationally recognized jazz vocalist\, will be accompanied by Chuck Easton (guitar/wind instruments) and Ted Enderle (bass.)
X-ALT-DESC;FMTTYPE=text/html:Jenny Davis\, nationally recognized jazz vocalist\, will be accompanied by Chuck Easton (guitar/wind instruments) and Ted Enderle (bass.)
LOCATION:Wind Rose Cellars 143 W Washington\, Sequim Washington\, 98382
UID:e.2672.13581
SEQUENCE:3
DTSTAMP:20260422T111356Z
URL:https://business.sequimchamber.com/events/details/live-music-jenny-davis-trio-10-05-2019-13581
END:VEVENT

END:VCALENDAR
