BEGIN:VCALENDAR
VERSION:2.0
PRODID:-//ChamberMaster//Event Calendar 2.0//EN
METHOD:PUBLISH
X-PUBLISHED-TTL:P3D
REFRESH-INTERVAL:P3D
CALSCALE:GREGORIAN
BEGIN:VEVENT
DTSTART:20191005T020000Z
DTEND:20191005T040000Z
X-MICROSOFT-CDO-ALLDAYEVENT:FALSE
SUMMARY:Live Music Tess Teal Trio
DESCRIPTION:Local jazz vocalist performs a mixture of Swing\, Blues Up-beat Jazz & more!
X-ALT-DESC;FMTTYPE=text/html:Local jazz vocalist performs a mixture of Swing\, Blues Up-beat Jazz &amp\; more!
LOCATION:Wind Rose Cellars
UID:e.2672.13580
SEQUENCE:3
DTSTAMP:20260422T105535Z
URL:https://business.sequimchamber.com/events/details/live-music-tess-teal-trio-13580
END:VEVENT

END:VCALENDAR
