BEGIN:VCALENDAR
VERSION:2.0
PRODID:-//ChamberMaster//Event Calendar 2.0//EN
METHOD:PUBLISH
X-PUBLISHED-TTL:P3D
REFRESH-INTERVAL:P3D
CALSCALE:GREGORIAN
BEGIN:VEVENT
DTSTART:20170914T070000Z
DTEND:20170915T030000Z
X-MICROSOFT-CDO-ALLDAYEVENT:FALSE
SUMMARY:McCrorie Carpet One Customer Appreciation Sale
DESCRIPTION:McCrorie Carpet One Customer Appreciation Sale
X-ALT-DESC;FMTTYPE=text/html:McCrorie Carpet One Customer Appreciation Sale
LOCATION:McCrorie Carpet One Showroom 547 North Oakridge Drive Port Angeles\, WA 98362
UID:e.2672.5280
SEQUENCE:3
DTSTAMP:20260422T140716Z
URL:https://business.sequimchamber.com/events/details/mccrorie-carpet-one-customer-appreciation-sale-5280
END:VEVENT

END:VCALENDAR
