BEGIN:VCALENDAR
VERSION:2.0
PRODID:-//ChamberMaster//Event Calendar 2.0//EN
METHOD:PUBLISH
X-PUBLISHED-TTL:P3D
REFRESH-INTERVAL:P3D
CALSCALE:GREGORIAN
BEGIN:VEVENT
DTSTART:20180203T000000Z
DTEND:20180203T020000Z
X-MICROSOFT-CDO-ALLDAYEVENT:FALSE
SUMMARY:Meet The Artist
DESCRIPTION:Come meet Daniel Owens as he displays his art here at Nourish for our February/March slot.
X-ALT-DESC;FMTTYPE=text/html:Come meet Daniel Owens as he displays his art here at Nourish for our February/March slot.
LOCATION:Nourish Sequim 101 Provence View Lane Sequim\,WA 98382
UID:e.2672.8483
SEQUENCE:3
DTSTAMP:20260424T100109Z
URL:https://business.sequimchamber.com/events/details/meet-the-artist-8483
END:VEVENT

END:VCALENDAR
