BEGIN:VCALENDAR
VERSION:2.0
PRODID:-//ChamberMaster//Event Calendar 2.0//EN
METHOD:PUBLISH
X-PUBLISHED-TTL:P3D
REFRESH-INTERVAL:P3D
CALSCALE:GREGORIAN
BEGIN:VEVENT
DTSTART:20191017T003000Z
DTEND:20191017T020000Z
X-MICROSOFT-CDO-ALLDAYEVENT:FALSE
SUMMARY:Merchants Meeting
DESCRIPTION:Join our Downtown Merchants for an informational meeting about events that impact our community\, a learning session with SBDC adviser\, and a chance to update the group on your business activities.
X-ALT-DESC;FMTTYPE=text/html:Join our Downtown Merchants for an informational meeting about events that impact our community\, a learning session with SBDC adviser\, and a chance to update the group on your business activities.
LOCATION:Las Palomas - 1085 E Washington St\, Sequim\, WA 98382 No Host Dinner
UID:e.2672.13275
SEQUENCE:3
DTSTAMP:20260422T103746Z
URL:https://business.sequimchamber.com/events/details/merchants-meeting-13275
END:VEVENT

END:VCALENDAR
