BEGIN:VCALENDAR
VERSION:2.0
PRODID:-//ChamberMaster//Event Calendar 2.0//EN
METHOD:PUBLISH
X-PUBLISHED-TTL:P3D
REFRESH-INTERVAL:P3D
CALSCALE:GREGORIAN
BEGIN:VEVENT
DTSTART:20220629T010000Z
DTEND:20220629T030000Z
X-MICROSOFT-CDO-ALLDAYEVENT:FALSE
SUMMARY:Music In the Park (MIP) Family Jazz Night with Sarah Shea and Jean Lenke
DESCRIPTION:June 28         Family Jazz Night with Sarah Shea & Jean Lenke\n\nMusic in the Park is a unique opportunity for you to enjoy live music starting at 6PM on Tuesday evenings in Carrie Blake Park at the James Center for the Performing Arts\, 350 North Blake Ave\, Sequim. This event is produced by KSQM 91.5 FM your listener-supported\, commercial free community radio and the Sequim City Arts Advisory Commission.  The Sequim Valley Lions Food Truck & Ulivo Pizza will be there for concessions.\n\nOn June 28th\, join Sarah Shea and Jean Lenke for an evening of Family-Friendly Jazz. They will be highlighting children and family favorites from Disney\, Raffi\, Sesame Street\, Weird Al\, the American Songbook and more! Yes\, Jazz can be FUN!\n\nBring a blanket or chairs\, a picnic and your dancing shoes. Hope to see you at 6PM to enjoy Family Jazz Night!
X-ALT-DESC;FMTTYPE=text/html:<strong><span style="font-size:14.0pt">June 28 &nbsp\;&nbsp\;&nbsp\;&nbsp\;&nbsp\;&nbsp\;&nbsp\; Family Jazz Night with Sarah Shea &amp\; Jean Lenke</span></strong><br />\n<span style="font-size:14.0pt">Music in the Park is a unique opportunity for you to enjoy live music starting at 6PM on Tuesday evenings in Carrie Blake Park at the James Center for the Performing Arts\, 350 North Blake Ave\, Sequim. This event is produced by KSQM 91.5 FM your listener-supported\, commercial free community radio and the Sequim City Arts Advisory Commission.&nbsp\; The Sequim Valley Lions Food Truck &amp\; Ulivo Pizza will be there for concessions.</span><br />\n<span style="font-size:14.0pt">On June 28<sup>th</sup>\, join Sarah Shea and Jean Lenke for an evening of Family-Friendly Jazz. They will be highlighting children and family favorites from Disney\, Raffi\, Sesame Street\, Weird Al\, the American Songbook and more! Yes\, Jazz can be FUN!</span><br />\n<span style="font-size:14.0pt">Bring a blanket or chairs\, a picnic and your dancing shoes. Hope to see you at 6PM to enjoy Family Jazz Night!</span>
LOCATION:
UID:e.2672.19470
SEQUENCE:3
DTSTAMP:20260422T013520Z
URL:https://business.sequimchamber.com/events/details/music-in-the-park-mip-06-28-2022-19470
END:VEVENT

END:VCALENDAR
