BEGIN:VCALENDAR
VERSION:2.0
PRODID:-//ChamberMaster//Event Calendar 2.0//EN
METHOD:PUBLISH
X-PUBLISHED-TTL:P3D
REFRESH-INTERVAL:P3D
CALSCALE:GREGORIAN
BEGIN:VEVENT
DTSTART:20250503T010000Z
DTEND:20250503T040000Z
X-MICROSOFT-CDO-ALLDAYEVENT:FALSE
SUMMARY:Night of the Vamp: A Theda Bara Burlesque & Film Experience
DESCRIPTION:Step into the seductive world of vintage cinema as Studio Bob presents Night of the Vamp\, a dazzling evening dedicated to cinema's first true sex symbol\, Theda Bara. Taking place on Friday\, May 2nd\, this 21+ immersive event combines classic film\, captivating burlesque\, and an electrifying atmosphere that will transport audiences to the golden age of silent cinema. The evening's entertainment will feature burlesque performances by Mia Maravilla (Seattle)\, bookending a screening of A Fool There Was the 1915 silent film that catapulted Theda Bara to stardom and established her as the ultimate femme fatale. Known for her sultry gaze and hypnotic presence\, Bara's legacy as the original "Vamp". The night will be hosted by Zoe Omega\, setting the tone for an evening intrigue. Adding to the ambiance\, DJ Thaumatic will curate an evocative soundscape\, enhancing the pre-show and post-film atmosphere.
X-ALT-DESC;FMTTYPE=text/html:Step into the seductive world of vintage cinema as Studio Bob presents Night of the Vamp\, a dazzling evening dedicated to cinema&rsquo\;s first true sex symbol\, Theda Bara. Taking place on Friday\, May 2nd\, this 21+ immersive event combines classic film\, captivating burlesque\, and an electrifying atmosphere that will transport audiences to the golden age of silent cinema. The evening&rsquo\;s entertainment will feature burlesque performances by Mia Maravilla (Seattle)\, bookending a screening of A Fool There Was&mdash\;the 1915 silent film that catapulted Theda Bara to stardom and established her as the ultimate femme fatale. Known for her sultry gaze and hypnotic presence\, Bara&rsquo\;s legacy as the original &ldquo\;Vamp&rdquo\;. The night will be hosted by Zoe Omega\, setting the tone for an evening intrigue. Adding to the ambiance\, DJ Thaumatic will curate an evocative soundscape\, enhancing the pre-show and post-film atmosphere.
LOCATION:Studio Bob 118 1/2 E Front St.\, Port Angeles\, WA 98362
UID:e.2672.23423
SEQUENCE:3
DTSTAMP:20260419T161918Z
URL:https://business.sequimchamber.com/events/details/night-of-the-vamp-a-theda-bara-burlesque-film-experience-23423
END:VEVENT

END:VCALENDAR
