BEGIN:VCALENDAR
VERSION:2.0
PRODID:-//ChamberMaster//Event Calendar 2.0//EN
METHOD:PUBLISH
X-PUBLISHED-TTL:P3D
REFRESH-INTERVAL:P3D
CALSCALE:GREGORIAN
BEGIN:VEVENT
DTSTART:20191022T184500Z
DTEND:20191022T200000Z
X-MICROSOFT-CDO-ALLDAYEVENT:FALSE
SUMMARY:NO Chamber Luncheon-NO LUNCHEON TODAY
DESCRIPTION:NO LUNCHEON TODAY-Please attend our Business Showcase this evening!
X-ALT-DESC;FMTTYPE=text/html:NO LUNCHEON TODAY-Please attend our Business Showcase this evening!
LOCATION:
UID:e.2672.7602
SEQUENCE:3
DTSTAMP:20260422T105823Z
URL:https://business.sequimchamber.com/events/details/no-chamber-luncheon-no-luncheon-today-10-22-2019-7602
END:VEVENT

END:VCALENDAR
