BEGIN:VCALENDAR
VERSION:2.0
PRODID:-//ChamberMaster//Event Calendar 2.0//EN
METHOD:PUBLISH
X-PUBLISHED-TTL:P3D
REFRESH-INTERVAL:P3D
CALSCALE:GREGORIAN
BEGIN:VEVENT
DTSTART:20250503T174500Z
DTEND:20250504T230000Z
X-MICROSOFT-CDO-ALLDAYEVENT:FALSE
SUMMARY:North Olympic Mustang & Cougar Club 40th Anniversary Car Show and Pony Cruise
DESCRIPTION:North Olympic Mustang & Cougar Club Annual Pony Cruise on May 3 leaving from Price Ford in Port Angeles at 11 AM. The 40th Anniversary Car Show will be on May 4 at the Gateway Transit Center in Port Angeles starting at 9 AM.
X-ALT-DESC;FMTTYPE=text/html:North Olympic Mustang &amp\; Cougar Club Annual Pony Cruise on May 3 leaving from Price Ford in Port Angeles at 11 AM. The 40th Anniversary Car Show will be on May 4 at the Gateway Transit Center in Port Angeles starting at 9 AM.
LOCATION:Port Angeles\, WA
UID:e.2672.23438
SEQUENCE:3
DTSTAMP:20260419T175700Z
URL:https://business.sequimchamber.com/events/details/north-olympic-mustang-cougar-club-40th-anniversary-car-show-and-pony-cruise-23438
END:VEVENT

END:VCALENDAR
