BEGIN:VCALENDAR
VERSION:2.0
PRODID:-//ChamberMaster//Event Calendar 2.0//EN
METHOD:PUBLISH
X-PUBLISHED-TTL:P3D
REFRESH-INTERVAL:P3D
CALSCALE:GREGORIAN
BEGIN:VEVENT
DTSTART:20180217T170000Z
DTEND:20180218T230000Z
X-MICROSOFT-CDO-ALLDAYEVENT:FALSE
SUMMARY:NPBA Building Remodeling & Energy Expo
DESCRIPTION:Come join us for NPBA'a 21st annual Building Remodeling & Energy Expo. This is Clallam County's largest building expo with many exhibitors\, informative seminars and fun give aways! Sequim High School February 17: 9 am - 4 pm February 18: 10 am - 3 pm Admission is free! For more information please call us at 360-452-8160
X-ALT-DESC;FMTTYPE=text/html:Come join us for NPBA'a 21st annual Building Remodeling &amp\; Energy Expo. This is Clallam County's largest building expo with many exhibitors\, informative seminars and fun give aways! Sequim High School February 17: 9 am - 4 pm February 18: 10 am - 3 pm Admission is free! For more information please call us at 360-452-8160
LOCATION:Sequim High School\, 601 N Sequim Ave\, Sequim\, WA 98382
UID:e.2672.8500
SEQUENCE:3
DTSTAMP:20260424T095003Z
URL:https://business.sequimchamber.com/events/details/npba-building-remodeling-energy-expo-8500
END:VEVENT

END:VCALENDAR
