BEGIN:VCALENDAR
VERSION:2.0
PRODID:-//ChamberMaster//Event Calendar 2.0//EN
METHOD:PUBLISH
X-PUBLISHED-TTL:P3D
REFRESH-INTERVAL:P3D
CALSCALE:GREGORIAN
BEGIN:VEVENT
DTSTART:20191022T204500Z
DTEND:20191022T224500Z
X-MICROSOFT-CDO-ALLDAYEVENT:FALSE
SUMMARY:Ocean Rift Virtual Reality
DESCRIPTION:Dive under the sea with virtual reality! Adults and teens can experience Ocean Rift\, an immersive and interactive 360  video using Oculus Rift and Go headsets. Explore unique habitats including coral reefs\, shipwrecks\, the Arctic\, and prehistoric seas. Registration is required. Please call 360. 683.1161.
X-ALT-DESC;FMTTYPE=text/html:Dive under the sea with virtual reality! Adults and teens can experience Ocean Rift\, an immersive and interactive 360&deg\; video using Oculus Rift and Go headsets. Explore unique habitats including coral reefs\, shipwrecks\, the Arctic\, and prehistoric seas. Registration is required. Please call 360. 683.1161.
LOCATION:Sequim Branch Library 630 N. Sequim Ave
UID:e.2672.13548
SEQUENCE:3
DTSTAMP:20260422T102754Z
URL:https://business.sequimchamber.com/events/details/ocean-rift-virtual-reality-13548
END:VEVENT

END:VCALENDAR
