BEGIN:VCALENDAR
VERSION:2.0
PRODID:-//ChamberMaster//Event Calendar 2.0//EN
METHOD:PUBLISH
X-PUBLISHED-TTL:P3D
REFRESH-INTERVAL:P3D
CALSCALE:GREGORIAN
BEGIN:VEVENT
DTSTART:20191019T000000Z
DTEND:20191019T040000Z
X-MICROSOFT-CDO-ALLDAYEVENT:FALSE
SUMMARY:Old Mill Cafe Octoberfest
DESCRIPTION:Old Mill Caf  will be hosting an Octoberfest German Meal with German beer pairing. Live Music from local band featuring old Rock N Roll & Folk. Reservation Required. 360-582-1583 $100 per couple\, $55 each
X-ALT-DESC;FMTTYPE=text/html:Old Mill Caf&eacute\; will be hosting an Octoberfest German Meal with German beer pairing. Live Music from local band featuring old Rock N Roll &amp\; Folk. Reservation Required. 360-582-1583 $100 per couple\, $55 each
LOCATION:721 Carlsborg Road Carlsborg\, WA
UID:e.2672.13579
SEQUENCE:3
DTSTAMP:20260422T103723Z
URL:https://business.sequimchamber.com/events/details/old-mill-cafe-octoberfest-13579
END:VEVENT

END:VCALENDAR
