BEGIN:VCALENDAR
VERSION:2.0
PRODID:-//ChamberMaster//Event Calendar 2.0//EN
METHOD:PUBLISH
X-PUBLISHED-TTL:P3D
REFRESH-INTERVAL:P3D
CALSCALE:GREGORIAN
BEGIN:VEVENT
DTSTART;VALUE=DATE:20250517
DTEND;VALUE=DATE:20250519
TRANSP:TRANSPARENT
X-MICROSOFT-CDO-ALLDAYEVENT:TRUE
SUMMARY:Olympic Driftwood Sculptors show
DESCRIPTION:The Olympic Driftwood Sculptors are having another show this year.
X-ALT-DESC;FMTTYPE=text/html:The Olympic Driftwood Sculptors are having another show this year.
LOCATION:The Dungeness River Nature Center\, 1943 W. Hendrickson Rd\, Sequim\, WA 98382.
UID:e.2672.23535
SEQUENCE:3
DTSTAMP:20260419T163155Z
URL:https://business.sequimchamber.com/events/details/olympic-driftwood-sculptors-show-23535
END:VEVENT

END:VCALENDAR
