BEGIN:VCALENDAR
VERSION:2.0
PRODID:-//ChamberMaster//Event Calendar 2.0//EN
METHOD:PUBLISH
X-PUBLISHED-TTL:P3D
REFRESH-INTERVAL:P3D
CALSCALE:GREGORIAN
BEGIN:VEVENT
DTSTART:20250504T020000Z
DTEND:20250504T043000Z
X-MICROSOFT-CDO-ALLDAYEVENT:FALSE
SUMMARY:Olympic Theatre Arts | Wrong Turn at Lungfish
DESCRIPTION:April 25th - May 11th\n\nLight Drama\n\nAudiences in Chicago\, Los Angeles\, and New York\, where George C. Scott starred\, applauded the comedy and the drama of Wrong Turn at Lungfish\, the story of a blind and bitter college professor and his encounter with a saucy\, streetwise young woman who volunteers to read to him in the hospital. The clash of intellect and wit takes the two from animosity and fear to friendship and understanding. Both come to their relationship with questions\, hers dealing with her station in life and her handsome boyfriend\, and his about past life choices. Both leave with hopeful answers\, even after the boyfriend shows up.\n\nWarning: Contains Adult Content\n\nFriday & Saturday Performances at 7:00pm\n\nSunday Matinees at 2:00pm
X-ALT-DESC;FMTTYPE=text/html:<p style="text-align:initial"><strong><u>April 25th - May 11th</u></strong></p>\n\n<p style="text-align:initial"><em>Light Drama</em></p>\n\n<p style="text-align:initial"><span style="color:rgb(26\, 25\, 25)">Audiences in Chicago\, Los Angeles\, and New York\, where George C. Scott starred\, applauded the comedy and the drama of </span><span style="color:rgb(26\, 25\, 25)">Wrong Turn at Lungfish</span><span style="color:rgb(26\, 25\, 25)">\, the story of a blind and bitter college professor and his encounter with a saucy\, streetwise young woman who volunteers to read to him in the hospital. The clash of intellect and wit takes the two from animosity and fear to friendship and understanding. Both come to their relationship with questions\, hers dealing with her station in life and her handsome boyfriend\, and his about past life choices. Both leave with hopeful answers\, even after the boyfriend shows up.</span></p>\n\n<p style="text-align:initial"><em>Warning: Contains Adult Content</em></p>\n\n<p style="text-align:initial">Friday &amp\; Saturday Performances at 7:00pm</p>\n\n<p style="text-align:initial">Sunday Matinees at 2:00pm</p>\n
LOCATION:Olympic Theatre Arts 414 N Sequim Ave Sequim\, WA 98382
UID:e.2672.23448
SEQUENCE:3
DTSTAMP:20260419T164503Z
URL:https://business.sequimchamber.com/events/details/olympic-theatre-arts-wrong-turn-at-lungfish-05-03-2025-23448
END:VEVENT

END:VCALENDAR
