BEGIN:VCALENDAR
VERSION:2.0
PRODID:-//ChamberMaster//Event Calendar 2.0//EN
METHOD:PUBLISH
X-PUBLISHED-TTL:P3D
REFRESH-INTERVAL:P3D
CALSCALE:GREGORIAN
BEGIN:VEVENT
DTSTART:20191005T003000Z
DTEND:20191005T023000Z
X-MICROSOFT-CDO-ALLDAYEVENT:FALSE
SUMMARY:Open Jam Session
DESCRIPTION:Join us for an informal gathering of people who like to make music! This is not an Open Mic event but a true Open Jam\, meaning that we will all be playing the same song as a group. We will feature folk music and early rock\, with many songs played in G\, so all levels of musicians can join in the fun. The music with lyrics and chords will be provided\, but if you'd like to play certain songs\, please bring multiple paper copies of songs or pdf files. Any acoustical instruments are welcome plus singers\, keyboards\, practice basses and other electronic instruments.
X-ALT-DESC;FMTTYPE=text/html:Join us for an informal gathering of people who like to make music! This is not an Open Mic event but a true Open Jam\, meaning that we will all be playing the same song as a group. We will feature folk music and early rock\, with many songs played in G\, so all levels of musicians can join in the fun. The music with lyrics and chords will be provided\, but if you&rsquo\;d like to play certain songs\, please bring multiple paper copies of songs or pdf files. Any acoustical instruments are welcome plus singers\, keyboards\, practice basses and other electronic instruments.
LOCATION:City of Sequim Civic Center 152 W. Cedar Street
UID:e.2672.13462
SEQUENCE:3
DTSTAMP:20260422T102753Z
URL:https://business.sequimchamber.com/events/details/open-jam-session-10-04-2019-13462
END:VEVENT

END:VCALENDAR
