BEGIN:VCALENDAR
VERSION:2.0
PRODID:-//ChamberMaster//Event Calendar 2.0//EN
METHOD:PUBLISH
X-PUBLISHED-TTL:P3D
REFRESH-INTERVAL:P3D
CALSCALE:GREGORIAN
BEGIN:VEVENT
DTSTART:20191013T000000Z
DTEND:20191013T020000Z
X-MICROSOFT-CDO-ALLDAYEVENT:FALSE
SUMMARY:Opening Reception: Taking It In
DESCRIPTION:Meet exhibiting artist\, Steve Belz\, and view his sculptures that\, "...express the beauty of nature and the tension created by our manipulation of the environment." *Current PAFAC members are invited to attend the VIP Members' Reception from 4 5pm\, Saturday October 12.
X-ALT-DESC;FMTTYPE=text/html:Meet exhibiting artist\, Steve Belz\, and view his sculptures that\, &quot\;...express the beauty of nature and the tension created by our manipulation of the environment.&quot\; *Current PAFAC members are invited to attend the VIP Members&#39\; Reception from 4&ndash\;5pm\, Saturday October 12.
LOCATION:Port Angeles Fine Arts Center 1203 E. Lauridsen Blvd. Port Angeles\, WA 98362
UID:e.2672.13535
SEQUENCE:3
DTSTAMP:20260422T102911Z
URL:https://business.sequimchamber.com/events/details/opening-reception-taking-it-in-13535
END:VEVENT

END:VCALENDAR
