BEGIN:VCALENDAR
VERSION:2.0
PRODID:-//ChamberMaster//Event Calendar 2.0//EN
METHOD:PUBLISH
X-PUBLISHED-TTL:P3D
REFRESH-INTERVAL:P3D
CALSCALE:GREGORIAN
BEGIN:VEVENT
DTSTART:20191012T143000Z
DTEND:20191012T170000Z
X-MICROSOFT-CDO-ALLDAYEVENT:FALSE
SUMMARY:Pancake Breakfast Fundraiser for the P.A. Fire Department
DESCRIPTION:Join the Park View Villas team to raise funds to support the new Drone Program at the Port Angeles Fire Department!  Homemade breakfast\, raffle baskets\, music\, and a great time - all for only $10 donation to the Fire Department.  We hope to see you on the 12th!
X-ALT-DESC;FMTTYPE=text/html:Join the Park View Villas team to raise funds to support the new Drone Program at the Port Angeles Fire Department!&nbsp\; Homemade breakfast\, raffle baskets\, music\, and a great time - all for only $10 donation to the Fire Department.&nbsp\; We hope to see you on the 12th!
LOCATION:Park View Villas 1430 Park View Lane Port Angeles\, Washington Corner of West 8th & G Streets
UID:e.2672.13527
SEQUENCE:3
DTSTAMP:20260422T105704Z
URL:https://business.sequimchamber.com/events/details/pancake-breakfast-fundraiser-for-the-p-a-fire-department-13527
END:VEVENT

END:VCALENDAR
