BEGIN:VCALENDAR
VERSION:2.0
PRODID:-//ChamberMaster//Event Calendar 2.0//EN
METHOD:PUBLISH
X-PUBLISHED-TTL:P3D
REFRESH-INTERVAL:P3D
CALSCALE:GREGORIAN
BEGIN:VEVENT
DTSTART:20171001T020000Z
DTEND:20171001T040000Z
X-MICROSOFT-CDO-ALLDAYEVENT:FALSE
SUMMARY:Pops & Picnic
DESCRIPTION:Bring a picnic supper -- we'll provide soft drinks\, popcorn\, dessert -- and music from the movies\, Broadway and the masters of classical and jazz. They come together in Pops & Picnic\, the Port Angeles Symphony Orchestra's season-opening concert. Featured soloists include tenor Mark Lorentzen\, soprano Kristin K. Vogel\, and Young Artist Competition winner Lauren Rankin. Also: The Vocal Unlimited choir from PAHS sings Hoagy Carmichael's "Jubilee\," in a special arrangement by Sequim's Linda Dowdell. It's an evening full of heart-lifting music.
X-ALT-DESC;FMTTYPE=text/html:Bring a picnic supper -- we&#39\;ll provide soft drinks\, popcorn\, dessert -- and music from the movies\, Broadway and the masters of classical and jazz. They come together in Pops &amp\; Picnic\, the Port Angeles Symphony Orchestra&#39\;s season-opening concert. Featured soloists include tenor Mark Lorentzen\, soprano Kristin K. Vogel\, and Young Artist Competition winner Lauren Rankin. Also: The Vocal Unlimited choir from PAHS sings Hoagy Carmichael&#39\;s &quot\;Jubilee\,&quot\; in a special arrangement by Sequim&#39\;s Linda Dowdell. It&#39\;s an evening full of heart-lifting music.
LOCATION:Boys & Girls Club\, 400 W. Fir St.\, Sequim
UID:e.2672.7309
SEQUENCE:3
DTSTAMP:20260422T135917Z
URL:https://business.sequimchamber.com/events/details/pops-picnic-7309
END:VEVENT

END:VCALENDAR
