BEGIN:VCALENDAR
VERSION:2.0
PRODID:-//ChamberMaster//Event Calendar 2.0//EN
METHOD:PUBLISH
X-PUBLISHED-TTL:P3D
REFRESH-INTERVAL:P3D
CALSCALE:GREGORIAN
BEGIN:VEVENT
DTSTART:20191012T020000Z
DTEND:20191012T030000Z
X-MICROSOFT-CDO-ALLDAYEVENT:FALSE
SUMMARY:Port Angeles Chamber Orchestra\; guest soloist Elizabeth Huston
DESCRIPTION:Harpist Elizabeth Huston returns to her home town to join the Port Angeles Chamber Orchestra for a night of classical and contemporary masterworks: Debussy's Two Dances\, Rautavaara's Ballade for harp and strings\, Coleridge-Taylor's Novelette and finally Haydn's 104th Symphony. Dr. James Ray steps up as guest conductor of this uplifting concert.
X-ALT-DESC;FMTTYPE=text/html:Harpist Elizabeth Huston returns to her home town to join the Port Angeles Chamber Orchestra for a night of classical and contemporary masterworks: Debussy&#39\;s Two Dances\, Rautavaara&#39\;s Ballade for harp and strings\, Coleridge-Taylor&#39\;s Novelette and finally Haydn&#39\;s 104th Symphony. Dr. James Ray steps up as guest conductor of this uplifting concert.
LOCATION:Holy Trinity Lutheran Church\, 301 Lopez Ave.\, Port Angeles
UID:e.2672.13592
SEQUENCE:3
DTSTAMP:20260422T110407Z
URL:https://business.sequimchamber.com/events/details/port-angeles-chamber-orchestra-guest-soloist-elizabeth-huston-13592
END:VEVENT

END:VCALENDAR
