BEGIN:VCALENDAR
VERSION:2.0
PRODID:-//ChamberMaster//Event Calendar 2.0//EN
METHOD:PUBLISH
X-PUBLISHED-TTL:P3D
REFRESH-INTERVAL:P3D
CALSCALE:GREGORIAN
BEGIN:VEVENT
DTSTART:20191013T020000Z
DTEND:20191013T030000Z
X-MICROSOFT-CDO-ALLDAYEVENT:FALSE
SUMMARY:Port Angeles Chamber Orchestra with guest harpist Elizabeth Huston
DESCRIPTION:Harpist Elizabeth Huston\, now based in Los Angeles\, returns to her home town to join the Port Angeles Chamber Orchestra for a night of classical and contemporary masterworks: Debussy's Two Dances\, Rautavaara's Ballade for harp and strings\, Coleridge-Taylor's Novelette and finally Haydn's 104th Symphony. Dr. James Ray steps up as guest conductor of this uplifting concert\, the first Sequim performance of the brand-new Port Angeles Symphony season.
X-ALT-DESC;FMTTYPE=text/html:Harpist Elizabeth Huston\, now based in Los Angeles\, returns to her home town to join the Port Angeles Chamber Orchestra for a night of classical and contemporary masterworks: Debussy&#39\;s Two Dances\, Rautavaara&#39\;s Ballade for harp and strings\, Coleridge-Taylor&#39\;s Novelette and finally Haydn&#39\;s 104th Symphony. Dr. James Ray steps up as guest conductor of this uplifting concert\, the first Sequim performance of the brand-new Port Angeles Symphony season.
LOCATION:Trinity United Methodist Church\, 100 S. Blake Ave.\, Sequim
UID:e.2672.13593
SEQUENCE:3
DTSTAMP:20260422T110249Z
URL:https://business.sequimchamber.com/events/details/port-angeles-chamber-orchestra-with-guest-harpist-elizabeth-huston-13593
END:VEVENT

END:VCALENDAR
