BEGIN:VCALENDAR
VERSION:2.0
PRODID:-//ChamberMaster//Event Calendar 2.0//EN
METHOD:PUBLISH
X-PUBLISHED-TTL:P3D
REFRESH-INTERVAL:P3D
CALSCALE:GREGORIAN
BEGIN:VEVENT
DTSTART:20191027T010000Z
DTEND:20191027T040000Z
X-MICROSOFT-CDO-ALLDAYEVENT:FALSE
SUMMARY:Port Angeles Fine Arts Center Benefit
DESCRIPTION:Don your best disguise and leave your inhibitions at the door\, because a truly extra-ordinary experience awaits as we delve into the darker side of the arts. *15 years old and over.
X-ALT-DESC;FMTTYPE=text/html:Don your best disguise and leave your inhibitions at the door\, because a truly extra-ordinary experience awaits as we delve into the darker side of the arts. *15 years old and over.
LOCATION:Port Angeles Fine Arts Center | 1203 E. Lauridsen Blvd.
UID:e.2672.13590
SEQUENCE:3
DTSTAMP:20260422T105903Z
URL:https://business.sequimchamber.com/events/details/port-angeles-fine-arts-center-benefit-13590
END:VEVENT

END:VCALENDAR
