BEGIN:VCALENDAR
VERSION:2.0
PRODID:-//ChamberMaster//Event Calendar 2.0//EN
METHOD:PUBLISH
X-PUBLISHED-TTL:P3D
REFRESH-INTERVAL:P3D
CALSCALE:GREGORIAN
BEGIN:VEVENT
DTSTART:20180218T033000Z
DTEND:20180218T050000Z
X-MICROSOFT-CDO-ALLDAYEVENT:FALSE
SUMMARY:Port Angeles Symphony Orchestra concert
DESCRIPTION:Guest soloist Julian Schwarz of New York City joins the Port Angeles Symphony for an evening of thrilling music: Dvorak's Slavonic Dance and Concerto for Violoncello -- plus Franck's Symphony in D Minor. A brief discussion with maestro Jonathan Pasternack starts at 6:40 p.m. Also\, youth 16 and under are admitted free with an adult.
X-ALT-DESC;FMTTYPE=text/html:Guest soloist Julian Schwarz of New York City joins the Port Angeles Symphony for an evening of thrilling music: Dvorak&#39\;s Slavonic Dance and Concerto for Violoncello -- plus Franck&#39\;s Symphony in D Minor. A brief discussion with maestro Jonathan Pasternack starts at 6:40 p.m. Also\, youth 16 and under are admitted free with an adult.
LOCATION:Port Angeles High School Performing Arts Center\, 304 E. Park Ave.\, Port Angeles
UID:e.2672.9117
SEQUENCE:3
DTSTAMP:20260422T231915Z
URL:https://business.sequimchamber.com/events/details/port-angeles-symphony-orchestra-concert-02-17-2018-9117
END:VEVENT

END:VCALENDAR
