BEGIN:VCALENDAR
VERSION:2.0
PRODID:-//ChamberMaster//Event Calendar 2.0//EN
METHOD:PUBLISH
X-PUBLISHED-TTL:P3D
REFRESH-INTERVAL:P3D
CALSCALE:GREGORIAN
BEGIN:VEVENT
DTSTART:20260328T200000Z
DTEND:20260328T220000Z
X-MICROSOFT-CDO-ALLDAYEVENT:FALSE
SUMMARY:Pottery Throwing Demonstration by Janet Piccola
DESCRIPTION:Blue Whole Gallery will be hosting a pottery throwing demonstration by Janet Piccola on March 28th from 1:00 PM to 3:00 PM.  The event is open to the public and is free.\n\nJanet learned her throwing techniques by attending classes and workshops with several renowned clay artists\, drawing inspiration from each artist's unique style and approach. She enjoys sharing the fun\, creativity\, and even the occasional fantastic failure that comes with throwing pottery on a potter's wheel.\n\nJoin Blue Whole Gallery for an entertaining afternoon with Janet Piccola.   Blue Whole Gallery is located at 129 W. Washington St.\, Sequim\, is open daily Monday through Saturday 10:00 AM to 5:00 PM and Sundays 11:00 AM to 3:00 PM.
X-ALT-DESC;FMTTYPE=text/html:<span style="font-family:verdana\,sans-serif">Blue Whole Gallery will be hosting a pottery throwing demonstration by Janet Piccola on March 28<sup>th</sup> from 1:00 PM to 3:00 PM.&nbsp\; The event is open to the public and is free.</span><br />\n<span style="font-family:verdana\,sans-serif">Janet learned her throwing techniques by attending classes and workshops with several renowned clay artists\, drawing inspiration from each artist&rsquo\;s unique style and approach. She enjoys sharing the fun\, creativity\, and even the occasional fantastic failure that comes with throwing pottery on a potter&rsquo\;s wheel.</span><br />\n<span style="font-family:verdana\,sans-serif">Join Blue Whole Gallery for an entertaining afternoon with Janet Piccola. &nbsp\;&nbsp\;Blue Whole Gallery is located at 129 W. Washington St.\, Sequim\, is open daily Monday through Saturday 10:00 AM to 5:00 PM and Sundays 11:00 AM to 3:00 PM.&nbsp\; </span><br />\n&nbsp\;
LOCATION:Blue Whole Gallery 129 W. Washington Street Sequim\, WA 98382 Open Daily Monday through Saturday from 10AM to 5PM and Sundays 11AM to 3PM
UID:e.2672.25582
SEQUENCE:3
DTSTAMP:20260421T083201Z
URL:https://business.sequimchamber.com/events/details/pottery-throwing-demonstration-by-janet-piccola-25582
END:VEVENT

END:VCALENDAR
