BEGIN:VCALENDAR
VERSION:2.0
PRODID:-//ChamberMaster//Event Calendar 2.0//EN
METHOD:PUBLISH
X-PUBLISHED-TTL:P3D
REFRESH-INTERVAL:P3D
CALSCALE:GREGORIAN
BEGIN:VEVENT
DTSTART:20190531T180000Z
DTEND:20190531T190000Z
X-MICROSOFT-CDO-ALLDAYEVENT:FALSE
SUMMARY:Quartz Crystal Singing Bowls-POSTPONED
DESCRIPTION:THIS EVENT HAS BEEN POSTPONED DUE TO COVID-19.\n\nPlease Join Us Every Friday to experience the sound and energy of the QUARTZ CRYSTAL SINGING BOWLS
X-ALT-DESC;FMTTYPE=text/html:THIS EVENT HAS BEEN POSTPONED DUE TO COVID-19.<br />\nPlease Join Us Every Friday to experience the sound and energy of the QUARTZ CRYSTAL SINGING BOWLS
LOCATION:Shipley Center\, 921 Hammond St.\, Sequim
UID:e.2672.2168
SEQUENCE:3
DTSTAMP:20260421T114735Z
URL:https://business.sequimchamber.com/events/details/quartz-crystal-singing-bowls-05-31-2019-2168
END:VEVENT

END:VCALENDAR
