BEGIN:VCALENDAR
VERSION:2.0
PRODID:-//ChamberMaster//Event Calendar 2.0//EN
METHOD:PUBLISH
X-PUBLISHED-TTL:P3D
REFRESH-INTERVAL:P3D
CALSCALE:GREGORIAN
BEGIN:VEVENT
DTSTART:20170516T190000Z
DTEND:20170516T193000Z
X-MICROSOFT-CDO-ALLDAYEVENT:FALSE
SUMMARY:Ribbon Cutting - Guy Cole Convention Center
DESCRIPTION:Please join the City of Sequim as they cut the ribbon on phase one of the Guy Cole Convention Center remodel project.  Celebrate the reopening of the facility and learn more about the plans for hte next phase of improvements.
X-ALT-DESC;FMTTYPE=text/html:Please join the City of Sequim as they cut the ribbon on phase one of the Guy Cole Convention Center remodel project.&nbsp\; Celebrate the reopening of the facility and learn more about the plans for hte next phase of improvements.
LOCATION:Carrie Blake Park
UID:e.2672.3910
SEQUENCE:3
DTSTAMP:20260422T122415Z
URL:https://business.sequimchamber.com/events/details/ribbon-cutting-guy-cole-convention-center-3910
END:VEVENT

END:VCALENDAR
