BEGIN:VCALENDAR
VERSION:2.0
PRODID:-//ChamberMaster//Event Calendar 2.0//EN
METHOD:PUBLISH
X-PUBLISHED-TTL:P3D
REFRESH-INTERVAL:P3D
CALSCALE:GREGORIAN
BEGIN:VEVENT
DTSTART:20170507T040000Z
DTEND:20170507T053000Z
X-MICROSOFT-CDO-ALLDAYEVENT:FALSE
SUMMARY:Robbie Knievel Comedy Show
DESCRIPTION:The All American Story Robbie Knievel EVEL Comedy Show Beer & Whiskey Social Tickets $35 or $30 with Rewards Card Club SEVEN 21 +
X-ALT-DESC;FMTTYPE=text/html:The All American Story Robbie Knievel EVEL Comedy Show Beer &amp\; Whiskey Social Tickets $35 or $30 with Rewards Card Club SEVEN 21 +
LOCATION:7 Cedars Casino 270756 Highway 101\, Sequim
UID:e.2672.3900
SEQUENCE:3
DTSTAMP:20260422T122252Z
URL:https://business.sequimchamber.com/events/details/robbie-knievel-comedy-show-3900
END:VEVENT

END:VCALENDAR
