BEGIN:VCALENDAR
VERSION:2.0
PRODID:-//ChamberMaster//Event Calendar 2.0//EN
METHOD:PUBLISH
X-PUBLISHED-TTL:P3D
REFRESH-INTERVAL:P3D
CALSCALE:GREGORIAN
BEGIN:VEVENT
DTSTART:20170916T190000Z
DTEND:20170917T000000Z
X-MICROSOFT-CDO-ALLDAYEVENT:FALSE
SUMMARY:SBYC Reach for Hospice Regatta
DESCRIPTION:Sequim Bay Yacht Club's 25th Reach for Hospice Regatta benefitting the Volunteer Hospice of Clallam County (VHOCC)
X-ALT-DESC;FMTTYPE=text/html:Sequim Bay Yacht Club&#39\;s 25th Reach for Hospice Regatta benefitting the Volunteer Hospice of Clallam County (VHOCC)
LOCATION:John Wayne Marina on Sequim Bay
UID:e.2672.5282
SEQUENCE:3
DTSTAMP:20260422T140717Z
URL:https://business.sequimchamber.com/events/details/sbyc-reach-for-hospice-regatta-5282
END:VEVENT

END:VCALENDAR
