BEGIN:VCALENDAR
VERSION:2.0
PRODID:-//ChamberMaster//Event Calendar 2.0//EN
METHOD:PUBLISH
X-PUBLISHED-TTL:P3D
REFRESH-INTERVAL:P3D
CALSCALE:GREGORIAN
BEGIN:VEVENT
DTSTART:20191019T210000Z
DTEND:20191019T220000Z
X-MICROSOFT-CDO-ALLDAYEVENT:FALSE
SUMMARY:Sea Otters in Olympic Coast National Marine Sanctuary
DESCRIPTION:Jessie Hale\, a PhD student at the University of Washington and recipient of a NOAA Dr. Nancy Foster Scholarship\, will discuss the history of sea otters in Washington State. Jessie will also talk about her research investigating what sea otters eat and what it tells us about the health of the population.
X-ALT-DESC;FMTTYPE=text/html:Jessie Hale\, a PhD student at the University of Washington and recipient of a NOAA Dr. Nancy Foster Scholarship\, will discuss the history of sea otters in Washington State. Jessie will also talk about her research investigating what sea otters eat and what it tells us about the health of the population.
LOCATION:Sequim Branch Library 630 N. Sequim Ave
UID:e.2672.13549
SEQUENCE:3
DTSTAMP:20260422T110122Z
URL:https://business.sequimchamber.com/events/details/sea-otters-in-olympic-coast-national-marine-sanctuary-13549
END:VEVENT

END:VCALENDAR
