BEGIN:VCALENDAR
VERSION:2.0
PRODID:-//ChamberMaster//Event Calendar 2.0//EN
METHOD:PUBLISH
X-PUBLISHED-TTL:P3D
REFRESH-INTERVAL:P3D
CALSCALE:GREGORIAN
BEGIN:VEVENT
DTSTART:20180209T190000Z
DTEND:20180209T230000Z
X-MICROSOFT-CDO-ALLDAYEVENT:FALSE
SUMMARY:See's Candy Valentine's Day Fundraiser
DESCRIPTION:See's Candy Valentine's Day Fundraiser. Olympic Medical Center Auxiliary\, will be hosting this yummy chocolate fundraiser to benefit Olympic Medical Center. Proceeds from this event go to the purchase of Hospital Equipment\, Lifeline Subscriptions\, Scholarships for students enrolled in classes for the health area profession\, Cancer Center Comfort Bags\, and End of Life Bags. Please help make a difference in our community by contributing to the success of this delicious event.
X-ALT-DESC;FMTTYPE=text/html:See&#39\;s Candy Valentine&#39\;s Day Fundraiser. Olympic Medical Center Auxiliary\, will be hosting this yummy chocolate fundraiser to benefit Olympic Medical Center. Proceeds from this event go to the purchase of Hospital Equipment\, Lifeline Subscriptions\, Scholarships for students enrolled in classes for the health area profession\, Cancer Center Comfort Bags\, and End of Life Bags. Please help make a difference in our community by contributing to the success of this delicious event.
LOCATION:Olympic Medical Center 939 Caroline Street (East Lobby) Port Angeles\, WA 98362
UID:e.2672.9105
SEQUENCE:3
DTSTAMP:20260422T231443Z
URL:https://business.sequimchamber.com/events/details/see-s-candy-valentine-s-day-fundraiser-02-09-2018-9105
END:VEVENT

END:VCALENDAR
