BEGIN:VCALENDAR
VERSION:2.0
PRODID:-//ChamberMaster//Event Calendar 2.0//EN
METHOD:PUBLISH
X-PUBLISHED-TTL:P3D
REFRESH-INTERVAL:P3D
CALSCALE:GREGORIAN
BEGIN:VEVENT
DTSTART:20170902T020000Z
DTEND:20170902T040000Z
X-MICROSOFT-CDO-ALLDAYEVENT:FALSE
SUMMARY:Sequim High School Varsity Football Game
DESCRIPTION:First home varsity football game of the 2017-18 school year against the Port Townsend Red Hawks
X-ALT-DESC;FMTTYPE=text/html:First home varsity football game of the 2017-18 school year against the Port Townsend Red Hawks
LOCATION:Sequim High School Stadium on Fir Street
UID:e.2672.5187
SEQUENCE:3
DTSTAMP:20260422T140716Z
URL:https://business.sequimchamber.com/events/details/sequim-high-school-varsity-football-game-5187
END:VEVENT

END:VCALENDAR
