BEGIN:VCALENDAR
VERSION:2.0
PRODID:-//ChamberMaster//Event Calendar 2.0//EN
METHOD:PUBLISH
X-PUBLISHED-TTL:P3D
REFRESH-INTERVAL:P3D
CALSCALE:GREGORIAN
BEGIN:VEVENT
DTSTART:20170512T070000Z
DTEND:20170514T010000Z
X-MICROSOFT-CDO-ALLDAYEVENT:FALSE
SUMMARY:Sequim Irrigation Festival Logging Show
DESCRIPTION:*Friday Activities\, 12pm   10pm Exhibitor Venue: Noon   6pm Truck & Tractor Pulls: 10am   6pm Beer Garden: Noon   10pm Chainsaw Carving: Noon   6pm Strongman Competition: 6pm   8pm Lumberjack Ball: 7pm   10pm Fireworks Display: 9:30pm *Saturday Activities 10am   6pm Exhibitor Venue: 10am   6pm Truck & Tractor Pulls: 10am   6pm Chainsaw Carving: 10am   6pm Live Auction of Carvings at 5pm Beer Garden: Noon   10pm Logging Show: 2pm   6pm Events Included: Axe Throwing SparPole Climbing Pole Falling Hot Saws\, Power Saws Hand Bucking Special Tree Acts
X-ALT-DESC;FMTTYPE=text/html:*Friday Activities\, 12pm &ndash\; 10pm Exhibitor Venue: Noon &ndash\; 6pm Truck &amp\; Tractor Pulls: 10am &ndash\; 6pm Beer Garden: Noon &ndash\; 10pm Chainsaw Carving: Noon &ndash\; 6pm Strongman Competition: 6pm &ndash\; 8pm Lumberjack Ball: 7pm &ndash\; 10pm Fireworks Display: 9:30pm *Saturday Activities 10am &ndash\; 6pm Exhibitor Venue: 10am &ndash\; 6pm Truck &amp\; Tractor Pulls: 10am &ndash\; 6pm Chainsaw Carving: 10am &ndash\; 6pm Live Auction of Carvings at 5pm Beer Garden: Noon &ndash\; 10pm Logging Show: 2pm &ndash\; 6pm Events Included: Axe Throwing SparPole Climbing Pole Falling Hot Saws\, Power Saws Hand Bucking Special Tree Acts
LOCATION:200 N. Blake Ave. Behind Blake Sand & Gravel
UID:e.2672.3927
SEQUENCE:3
DTSTAMP:20260422T122414Z
URL:https://business.sequimchamber.com/events/details/sequim-irrigation-festival-logging-show-3927
END:VEVENT

END:VCALENDAR
