BEGIN:VCALENDAR
VERSION:2.0
PRODID:-//ChamberMaster//Event Calendar 2.0//EN
METHOD:PUBLISH
X-PUBLISHED-TTL:P3D
REFRESH-INTERVAL:P3D
CALSCALE:GREGORIAN
BEGIN:VEVENT
DTSTART:20210918T170000Z
DTEND:20210918T220000Z
X-MICROSOFT-CDO-ALLDAYEVENT:FALSE
SUMMARY:Sequim Maker's Market
DESCRIPTION:Our Finale Event will be located at 343 Pierson Rd\, Sequim WA 98382\n\n\n\nLocal Vendors will be selling:\n\nSoaps\n\nBath Bombs\n\nCustom Fragrances\n\nJewelry\n\nAprons\n\nNachos\n\nGARAGE SALE\n\nGame Zone\n\nand much more!
X-ALT-DESC;FMTTYPE=text/html:Our Finale Event will be located at 343 Pierson Rd\, Sequim WA 98382<br />\n<br />\nLocal Vendors will be selling:<br />\nSoaps<br />\nBath Bombs<br />\nCustom Fragrances<br />\nJewelry<br />\nAprons<br />\nNachos<br />\nGARAGE SALE<br />\nGame Zone<br />\nand much more!
LOCATION:343 PIERSON ROAD SEQUIM WA 98382
UID:e.2672.18270
SEQUENCE:3
DTSTAMP:20260421T042252Z
URL:https://business.sequimchamber.com/events/details/sequim-maker-s-market-09-18-2021-18270
END:VEVENT

END:VCALENDAR
