BEGIN:VCALENDAR
VERSION:2.0
PRODID:-//ChamberMaster//Event Calendar 2.0//EN
METHOD:PUBLISH
X-PUBLISHED-TTL:P3D
REFRESH-INTERVAL:P3D
CALSCALE:GREGORIAN
BEGIN:VEVENT
DTSTART:20170501T170000Z
DTEND:20170501T183000Z
X-MICROSOFT-CDO-ALLDAYEVENT:FALSE
SUMMARY:Sequim Prairie Garden Club Meeting
DESCRIPTION:March Program: Native Plants of the North Olympic Peninsula\n\nPresented by Mark Barnes\, Master Gardener\, owner of Native Plants Farm.\n\nFree to the public.
X-ALT-DESC;FMTTYPE=text/html:March Program: Native Plants of the North Olympic Peninsula<br />\nPresented by Mark Barnes\, Master Gardener\, owner of Native Plants Farm.<br />\nFree to the public.<br />\n&nbsp\;
LOCATION:Pioneer Memorial Park 387 E. Washington St Sequim\, WA
UID:e.2672.3711
SEQUENCE:3
DTSTAMP:20260422T122554Z
URL:https://business.sequimchamber.com/events/details/sequim-prairie-garden-club-meeting-3711
END:VEVENT

END:VCALENDAR
