BEGIN:VCALENDAR
VERSION:2.0
PRODID:-//ChamberMaster//Event Calendar 2.0//EN
METHOD:PUBLISH
X-PUBLISHED-TTL:P3D
REFRESH-INTERVAL:P3D
CALSCALE:GREGORIAN
BEGIN:VEVENT
DTSTART:20180217T010000Z
DTEND:20180217T030000Z
X-MICROSOFT-CDO-ALLDAYEVENT:FALSE
SUMMARY:Sequim Prairie Grange Spaghetti Dinner Benefit
DESCRIPTION:Grange members hosting delicious Spaghetti dinner to benefit the rescues of Peninsula Friends Of Animals. Dinner includes garlic bread\, salad and dessert. A meatless option will also be available. A generous portion of the dinner proceeds will be donated for the care of the kitties and foster dogs. PFOA'S famous potholders will also be available for purchase.
X-ALT-DESC;FMTTYPE=text/html:Grange members hosting delicious Spaghetti dinner to benefit the rescues of Peninsula Friends Of Animals. Dinner includes garlic bread\, salad and dessert. A meatless option will also be available. A generous portion of the dinner proceeds will be donated for the care of the kitties and foster dogs. PFOA&#39\;S famous potholders will also be available for purchase.
LOCATION:Sequim Prairie Grange 290 Macleay Road Sequim\, WA. 98382
UID:e.2672.8683
SEQUENCE:3
DTSTAMP:20260424T094746Z
URL:https://business.sequimchamber.com/events/details/sequim-prairie-grange-spaghetti-dinner-benefit-8683
END:VEVENT

END:VCALENDAR
