BEGIN:VCALENDAR
VERSION:2.0
PRODID:-//ChamberMaster//Event Calendar 2.0//EN
METHOD:PUBLISH
X-PUBLISHED-TTL:P3D
REFRESH-INTERVAL:P3D
CALSCALE:GREGORIAN
BEGIN:VEVENT
DTSTART:20170519T200000Z
DTEND:20170519T230000Z
X-MICROSOFT-CDO-ALLDAYEVENT:FALSE
SUMMARY:Shipley Center's Healthy U!
DESCRIPTION:Shipley Center Presents Healthy U! Each month a guest presenter will speak on a topic regarding health and wellness   physical\, nutritional\, and emotional   as we age. This open to the public series continues on May 19th at 1pm with a Healthcare and Life Planning Fair presented in partnership with Discovery Memory Care. Join us for an informational healthcare and life planning fair featuring local professionals in their field who will provide resources and answer questions. We will have representatives from the fields of healthcare\, senior housing\, legal questions\, financial planning\, insurance\, and more. A panel discussion will also take place\, as well as opportunities for one on one discussions.
X-ALT-DESC;FMTTYPE=text/html:Shipley Center Presents Healthy U! Each month a guest presenter will speak on a topic regarding health and wellness &ndash\; physical\, nutritional\, and emotional &ndash\; as we age. This open to the public series continues on May 19th at 1pm with a Healthcare and Life Planning Fair presented in partnership with Discovery Memory Care. Join us for an informational healthcare and life planning fair featuring local professionals in their field who will provide resources and answer questions. We will have representatives from the fields of healthcare\, senior housing\, legal questions\, financial planning\, insurance\, and more. A panel discussion will also take place\, as well as opportunities for one on one discussions.
LOCATION:Shipley Center\, 921 E Hammond St\, Sequim\, WA
UID:e.2672.3816
SEQUENCE:3
DTSTAMP:20260422T122414Z
URL:https://business.sequimchamber.com/events/details/shipley-center-s-healthy-u-05-19-2017-3816
END:VEVENT

END:VCALENDAR
