BEGIN:VCALENDAR
VERSION:2.0
PRODID:-//ChamberMaster//Event Calendar 2.0//EN
METHOD:PUBLISH
X-PUBLISHED-TTL:P3D
REFRESH-INTERVAL:P3D
CALSCALE:GREGORIAN
BEGIN:VEVENT
DTSTART:20170509T210000Z
DTEND:20170509T230000Z
X-MICROSOFT-CDO-ALLDAYEVENT:FALSE
SUMMARY:Shipley Center Tea & Entertainment
DESCRIPTION:Wear you best hat and bring a friend for a delightful afternoon high tea\, catered by The Caf  at Shipley Center. Enjoy the comforting music performed by Harpist\, Laraine Claire. Tickets can be purchased at Shipley Center main office. Thank you to our event sponsors Dungeness Court Memory Care\, Park View Villas and Sequim Health and Rehabilitation.
X-ALT-DESC;FMTTYPE=text/html:Wear you best hat and bring a friend for a delightful afternoon high tea\, catered by The Caf&eacute\; at Shipley Center. Enjoy the comforting music performed by Harpist\, Laraine Claire. Tickets can be purchased at Shipley Center main office. Thank you to our event sponsors Dungeness Court Memory Care\, Park View Villas and Sequim Health and Rehabilitation.
LOCATION:Shipley Center\, 921 E Hammond St\, Sequim\, WA
UID:e.2672.3819
SEQUENCE:3
DTSTAMP:20260422T122224Z
URL:https://business.sequimchamber.com/events/details/shipley-center-tea-entertainment-3819
END:VEVENT

END:VCALENDAR
