BEGIN:VCALENDAR
VERSION:2.0
PRODID:-//ChamberMaster//Event Calendar 2.0//EN
METHOD:PUBLISH
X-PUBLISHED-TTL:P3D
REFRESH-INTERVAL:P3D
CALSCALE:GREGORIAN
BEGIN:VEVENT
DTSTART:20170510T013000Z
DTEND:20170510T023000Z
X-MICROSOFT-CDO-ALLDAYEVENT:FALSE
SUMMARY:Singing Lessons for Men
DESCRIPTION:The Olympic Peninsula Men's Chorus will be presenting "Free Singing Lessons For Men" starting on May 9 and continuing for 4 weeks. Lessons will be 1 hour each week starting at 6:30 at Olympic Theatre Arts at 414 North Sequim Ave. in Sequim. There are no tryouts\, men of all ages are welcome to attend\, and all lessons are free of charge. Participants can come to as many of the lessons as they choose. The lessons will be led by Kyra Humphrey\, a local voice teacher. You will be learning Healthy Singing\, Finding Your Range\, Singing in Close Harmony and Tuning. Kyra is a Washington native\, born in Spokane\, where she attended Gonzaga University. She continued her education at the University of Washington\, where she completed her M.M. in Vocal Performance in 1983. She was on the voice faculty at Northwest College in Kirkland\, maintained a full-time private vocal studio in Seattle\, performed regularly as a soloist with Pacific Northwest Ballet and the Seattle Choral Company\, and was director of contemporary music at St. Monica Catholic Church on Mercer Island.
X-ALT-DESC;FMTTYPE=text/html:The Olympic Peninsula Men&rsquo\;s Chorus will be presenting &ldquo\;Free Singing Lessons For Men&rdquo\; starting on May 9 and continuing for 4 weeks. Lessons will be 1 hour each week starting at 6:30 at Olympic Theatre Arts at 414 North Sequim Ave. in Sequim. There are no tryouts\, men of all ages are welcome to attend\, and all lessons are free of charge. Participants can come to as many of the lessons as they choose. The lessons will be led by Kyra Humphrey\, a local voice teacher. You will be learning Healthy Singing\, Finding Your Range\, Singing in Close Harmony and Tuning. Kyra is a Washington native\, born in Spokane\, where she attended Gonzaga University. She continued her education at the University of Washington\, where she completed her M.M. in Vocal Performance in 1983. She was on the voice faculty at Northwest College in Kirkland\, maintained a full-time private vocal studio in Seattle\, performed regularly as a soloist with Pacific Northwest Ballet and the Seattle Choral Company\, and was director of contemporary music at St. Monica Catholic Church on Mercer Island.
LOCATION:Olympic Theatre Arts 414 North Sequim Ave
UID:e.2672.3906
SEQUENCE:3
DTSTAMP:20260422T121843Z
URL:https://business.sequimchamber.com/events/details/singing-lessons-for-men-3906
END:VEVENT

END:VCALENDAR
