BEGIN:VCALENDAR
VERSION:2.0
PRODID:-//ChamberMaster//Event Calendar 2.0//EN
METHOD:PUBLISH
X-PUBLISHED-TTL:P3D
REFRESH-INTERVAL:P3D
CALSCALE:GREGORIAN
BEGIN:VEVENT
DTSTART:20191005T160000Z
DTEND:20191006T000000Z
X-MICROSOFT-CDO-ALLDAYEVENT:FALSE
SUMMARY:Solar Open House
DESCRIPTION:Have you ever considered going solar? See solar up close. Learn about reduced energy costs. Discover information about sustainability.
X-ALT-DESC;FMTTYPE=text/html:Have you ever considered going solar? See solar up close. Learn about reduced energy costs. Discover information about sustainability.
LOCATION:173 Griffith Farm Road Sequim\, WA 98382
UID:e.2672.13589
SEQUENCE:3
DTSTAMP:20260422T102912Z
URL:https://business.sequimchamber.com/events/details/solar-open-house-13589
END:VEVENT

END:VCALENDAR
