BEGIN:VCALENDAR
VERSION:2.0
PRODID:-//ChamberMaster//Event Calendar 2.0//EN
METHOD:PUBLISH
X-PUBLISHED-TTL:P3D
REFRESH-INTERVAL:P3D
CALSCALE:GREGORIAN
BEGIN:VEVENT
DTSTART:20170511T230000Z
DTEND:20170512T030000Z
X-MICROSOFT-CDO-ALLDAYEVENT:FALSE
SUMMARY:Spaghetti Feed - All You Can Eat
DESCRIPTION:Olympic Peninsula Academy PTO will be holding a spaghetti feed fundraiser at the Sequim High School Cafeteria (601 N. Sequim Ave). The cost is $10.00/adult\, $5.00 for children ages 5-16 years old\, under 5 free. Max cost per family is $30.00. This is an all you can eat spaghetti dinner with garlic bread and salad. There will be vegetarian and gluten free options. All proceeds go directly to help support activities for the students of Olympic Peninsula Academy. Thank you for your continued support.
X-ALT-DESC;FMTTYPE=text/html:Olympic Peninsula Academy PTO will be holding a spaghetti feed fundraiser at the Sequim High School Cafeteria (601 N. Sequim Ave). The cost is $10.00/adult\, $5.00 for children ages 5-16 years old\, under 5 free. Max cost per family is $30.00. This is an all you can eat spaghetti dinner with garlic bread and salad. There will be vegetarian and gluten free options. All proceeds go directly to help support activities for the students of Olympic Peninsula Academy. Thank you for your continued support.
LOCATION:Sequim High School Cafeteria 601 N. Sequim Avenue
UID:e.2672.4933
SEQUENCE:3
DTSTAMP:20260422T140534Z
URL:https://business.sequimchamber.com/events/details/spaghetti-feed-all-you-can-eat-4933
END:VEVENT

END:VCALENDAR
